BEGIN:VCALENDAR
VERSION:2.0
PRODID:-//ChamberMaster//Event Calendar 2.0//EN
METHOD:PUBLISH
X-PUBLISHED-TTL:P3D
REFRESH-INTERVAL:P3D
CALSCALE:GREGORIAN
BEGIN:VEVENT
DTSTART:20220709T150000Z
DTEND:20220709T190000Z
X-MICROSOFT-CDO-ALLDAYEVENT:FALSE
SUMMARY:Second Saturday July 9th
DESCRIPTION:Second Saturday Food Truck July 9th\n\nDesperado Dog
X-ALT-DESC;FMTTYPE=text/html:Second Saturday Food Truck July 9th<br />\nDesperado Dog
LOCATION:Courthouse
UID:e.1848.13383
SEQUENCE:3
DTSTAMP:20260424T154817Z
URL:http://stcchamber.chambermaster.com/events/details/second-saturday-july-9th-13383
END:VEVENT

END:VCALENDAR
